Workbook

Sheet Budget Updated
A1: Budget
A2: Oakhaven Public Safety Campus - GRC-26-0142
I3: Updated: | J3: 46233 | K3: CK
A4: Fee based on a Construction Cost of: | G4: 40000000 | H4: 0.07 | J4: =+G4*H4 -> 2800000 | K4: Or if lump sum, input the fee
A5: Projected Engineering Fees | H5: 0.5 | J5: =+J4*H5 -> 1400000 | K5: If fees are known, they go here and can be totaled below in the consultant area
A6: Architectural / Interior Design Fees | H6: =100%-H5 -> 0.5 | J6: =J4-J5 -> 1400000
A8: Fee Less % Profit | B8: 0.2
A10: PROJECT SUMMARY (NOTE:FEES AND COST SHOWN DO NOT INCLUDE ENGINEERING) | M10: FEE BREAKDOWN | Q10: CONSULTANT FEES | R10: Beam & Assoc. | S10: Fielding Eng. | T10: Fielding Eng. | U10: By Owner (excl.) | V10: firm name | W10: Sentinel Tech. | X10: Harmonic Acou. | Y10: firm name | Z10: firm name | AA10: firm name | AB10: firm name | AC10: firm name | AD10: firm name | AE10: firm name | AF10: Expenses
C11: phase start | D11: phase finish | E11: # of days | G11: COST | H11: FEE | I11: PROFIT | J11: GRACE FEE % | M11: Total Fee | N11: Consultants | O11: GRACE | R11: Structural | S11: Mech/Plumb | T11: Elec | U11: Civil | V11: Landscape | W11: Tech/Security | X11: Acoustical | Y11: Discipline | Z11: Discipline | AA11: Discipline | AB11: Discipline | AC11: Discipline | AD11: Discipline | AE11: Discipline | AF11: (Printing/Mileage/etc.) | AG11: Total
A12: Programming | C12: 46244 | D12: =C12+E12 -> 46265 | E12: 21 | F12: 0.05 | G12: =SUM(PG!G28,PG!G52,PG!G76,PG!G88) -> 34500 | H12: =J6*F12 -> 70000 | I12: =H12-G12 -> 35500 | J12: =IFERROR(G12/$H$19,0) -> 0.024642857 | M12: =SUM(J4*F12) -> 140000 | N12: =+M12*$H$5 -> 70000 | O12: =+M12-N12 -> 70000 | R12: =SUM($R$19*$F12) -> 18000 | S12: =SUM($S$19*$F12) -> 19000 | T12: =SUM($T$19*$F12) -> 12000 | U12: =SUM($U$19*$F12) -> 0 | V12: =SUM($V$19*$F12) -> 0 | W12: =SUM($W$19*$F12) -> 15000 | X12: =SUM($X$19*$F12) -> 6000 | Y12: =SUM($Y$19*$F12) -> 0 | Z12: =SUM($Z$19*$F12) -> 0 | AA12: =SUM($AA$19*$F12) -> 0 | AB12: =SUM($AB$19*$F12) -> 0 | AC12: =SUM($AC$19*$F12) -> 0 | AD12: =SUM($AD$19*$F12) -> 0 | AE12: =SUM($AE$19*$F12) -> 0 | AG12: =SUM(R12:AF12) -> 70000
A13: Schematic Design | C13: =D12+1 -> 46266 | D13: =C13+E13 -> 46311 | E13: 45 | F13: 0.15 | G13: =SUM(SD!G28,SD!G52,SD!G76,SD!G88) -> 120650 | H13: =J6*F13 -> 210000 | I13: =H13-G13 -> 89350 | J13: =IFERROR(G13/$H$19,0) -> 0.086178571 | M13: =SUM(J4*F13) -> 420000 | N13: =+M13*$H$5 -> 210000 | O13: =+M13-N13 -> 210000 | R13: =SUM($R$19*$F13) -> 54000 | S13: =SUM($S$19*$F13) -> 57000 | T13: =SUM($T$19*$F13) -> 36000 | U13: =SUM($U$19*$F13) -> 0 | V13: =SUM($V$19*$F13) -> 0 | W13: =SUM($W$19*$F13) -> 45000 | X13: =SUM($X$19*$F13) -> 18000 | Y13: =SUM($Y$19*$F13) -> 0 | Z13: =SUM($Z$19*$F13) -> 0 | AA13: =SUM($AA$19*$F13) -> 0 | AB13: =SUM($AB$19*$F13) -> 0 | AC13: =SUM($AC$19*$F13) -> 0 | AD13: =SUM($AD$19*$F13) -> 0 | AE13: =SUM($AE$19*$F13) -> 0 | AG13: =SUM(R13:AF13) -> 210000
A14: Design Development | C14: =D13+1 -> 46312 | D14: =C14+E14 -> 46402 | E14: 90 | F14: 0.2 | G14: =SUM(DD!G28,DD!G52,DD!G76,DD!G88) -> 238100 | H14: =J6*F14 -> 280000 | I14: =H14-G14 -> 41900 | J14: =IFERROR(G14/$H$19,0) -> 0.17007143 | M14: =SUM(J4*F14) -> 560000 | N14: =+M14*$H$5 -> 280000 | O14: =+M14-N14 -> 280000 | R14: =SUM($R$19*$F14) -> 72000 | S14: =SUM($S$19*$F14) -> 76000 | T14: =SUM($T$19*$F14) -> 48000 | U14: =SUM($U$19*$F14) -> 0 | V14: =SUM($V$19*$F14) -> 0 | W14: =SUM($W$19*$F14) -> 60000 | X14: =SUM($X$19*$F14) -> 24000 | Y14: =SUM($Y$19*$F14) -> 0 | Z14: =SUM($Z$19*$F14) -> 0 | AA14: =SUM($AA$19*$F14) -> 0 | AB14: =SUM($AB$19*$F14) -> 0 | AC14: =SUM($AC$19*$F14) -> 0 | AD14: =SUM($AD$19*$F14) -> 0 | AE14: =SUM($AE$19*$F14) -> 0 | AG14: =SUM(R14:AF14) -> 280000
A15: Construction Documents | C15: =D14+1 -> 46403 | D15: =C15+E15 -> 46523 | E15: 120 | F15: 0.35 | G15: =SUM(CD!G28,CD!G52,CD!G76,CD!G88) -> 394050 | H15: =J6*F15 -> 490000 | I15: =H15-G15 -> 95950 | J15: =IFERROR(G15/$H$19,0) -> 0.28146429 | M15: =SUM(J4*F15) -> 980000 | N15: =+M15*$H$5 -> 490000 | O15: =+M15-N15 -> 490000 | R15: =SUM($R$19*$F15) -> 126000 | S15: =SUM($S$19*$F15) -> 133000 | T15: =SUM($T$19*$F15) -> 84000 | U15: =SUM($U$19*$F15) -> 0 | V15: =SUM($V$19*$F15) -> 0 | W15: =SUM($W$19*$F15) -> 105000 | X15: =SUM($X$19*$F15) -> 42000 | Y15: =SUM($Y$19*$F15) -> 0 | Z15: =SUM($Z$19*$F15) -> 0 | AA15: =SUM($AA$19*$F15) -> 0 | AB15: =SUM($AB$19*$F15) -> 0 | AC15: =SUM($AC$19*$F15) -> 0 | AD15: =SUM($AD$19*$F15) -> 0 | AE15: =SUM($AE$19*$F15) -> 0 | AG15: =SUM(R15:AF15) -> 490000
A16: Bidding & Negotiations | C16: =D15+1 -> 46524 | D16: =C16+E16 -> 46584 | E16: 60 | F16: 0.05 | G16: =SUM(BN!G27,BN!G50,BN!G73) -> 54620 | H16: =J6*F16 -> 70000 | I16: =H16-G16 -> 15380 | J16: =IFERROR(G16/$H$19,0) -> 0.039014286 | M16: =SUM(J4*F16) -> 140000 | N16: =+M16*$H$5 -> 70000 | O16: =+M16-N16 -> 70000 | R16: =SUM($R$19*$F16) -> 18000 | S16: =SUM($S$19*$F16) -> 19000 | T16: =SUM($T$19*$F16) -> 12000 | U16: =SUM($U$19*$F16) -> 0 | V16: =SUM($V$19*$F16) -> 0 | W16: =SUM($W$19*$F16) -> 15000 | X16: =SUM($X$19*$F16) -> 6000 | Y16: =SUM($Y$19*$F16) -> 0 | Z16: =SUM($Z$19*$F16) -> 0 | AA16: =SUM($AA$19*$F16) -> 0 | AB16: =SUM($AB$19*$F16) -> 0 | AC16: =SUM($AC$19*$F16) -> 0 | AD16: =SUM($AD$19*$F16) -> 0 | AE16: =SUM($AE$19*$F16) -> 0 | AG16: =SUM(R16:AF16) -> 70000
A17: Construction Administration | C17: =D16+1 -> 46585 | D17: =C17+E17 -> 47132 | E17: 547 | F17: 0.2 | G17: =SUM(CA!G27,CA!G50,CA!G73,CA!G85) -> 270100 | H17: =J6*F17 -> 280000 | I17: =H17-G17 -> 9900 | J17: =IFERROR(G17/$H$19,0) -> 0.19292857 | M17: =SUM(J4*F17) -> 560000 | N17: =+M17*$H$5 -> 280000 | O17: =+M17-N17 -> 280000 | R17: =SUM($R$19*$F17) -> 72000 | S17: =SUM($S$19*$F17) -> 76000 | T17: =SUM($T$19*$F17) -> 48000 | U17: =SUM($U$19*$F17) -> 0 | V17: =SUM($V$19*$F17) -> 0 | W17: =SUM($W$19*$F17) -> 60000 | X17: =SUM($X$19*$F17) -> 24000 | Y17: =SUM($Y$19*$F17) -> 0 | Z17: =SUM($Z$19*$F17) -> 0 | AA17: =SUM($AA$19*$F17) -> 0 | AB17: =SUM($AB$19*$F17) -> 0 | AC17: =SUM($AC$19*$F17) -> 0 | AD17: =SUM($AD$19*$F17) -> 0 | AE17: =SUM($AE$19*$F17) -> 0 | AG17: =SUM(R17:AF17) -> 280000
A18: Warranty | E18: =D18-C18 -> 0 | F18: 0 | G18: =SUM(Warranty!G27,Warranty!G50,Warranty!G73,Warranty!G85) -> 0 | H18: =J6*F18 -> 0 | I18: =H18-G18 -> 0 | J18: =IFERROR(G18/$H$19,0) -> 0 | K18: Profit of Grace fee | M18: =SUM(J4*F18) -> 0 | N18: =+M18*$H$5 -> 0 | O18: =+M18-N18 -> 0 | R18: =SUM($R$19*$F18) -> 0 | S18: =SUM($S$19*$F18) -> 0 | T18: =SUM($T$19*$F18) -> 0 | U18: =SUM($U$19*$F18) -> 0 | V18: =SUM($V$19*$F18) -> 0 | W18: =SUM($W$19*$F18) -> 0 | X18: =SUM($X$19*$F18) -> 0 | Y18: =SUM($Y$19*$F18) -> 0 | Z18: =SUM($Z$19*$F18) -> 0 | AA18: =SUM($AA$19*$F18) -> 0 | AB18: =SUM($AB$19*$F18) -> 0 | AC18: =SUM($AC$19*$F18) -> 0 | AD18: =SUM($AD$19*$F18) -> 0 | AE18: =SUM($AE$19*$F18) -> 0 | AG18: =SUM(R18:AF18) -> 0
A19: Total | F19: =SUM(F12:F18) -> 1 | G19: =SUM(G12:G18) -> 1112020 | H19: =SUM(H12:H18) -> 1400000 | I19: =SUM(I12:I18) -> 287980 | J19: =IFERROR(G19/$H$19,0) -> 0.7943 | K19: =I19/J6 -> 0.2057 | M19: =SUM(M12:M18) -> 2800000 | N19: =+M19*$H$5 -> 1400000 | O19: =+M19-N19 -> 1400000 | R19: 360000 | S19: 380000 | T19: 240000 | U19: 0 | V19: 0 | W19: 300000 | X19: 120000 | Y19: 0 | Z19: 0 | AA19: 0 | AB19: 0 | AC19: 0 | AD19: 0 | AE19: 0 | AF19: =SUM(AF12:AF18) -> 0 | AG19: =SUM(AG12:AG18) -> 1400000
R20: Input actual fees negotiated in the yellow cell for each consultant
A21: Department | F21: Fee | G21: Cost | H21: Profit | I21: Fee % | J21: Profit %
A22: Architecture / Interiors | F22: =IFERROR(+PG!G6+SD!G6+DD!G6+CD!G6+BN!G6+CA!G6+Warranty!G6,0) -> 1400000 | G22: =+PG!G28+SD!G28+DD!G28+CD!G28+BN!G27+CA!G27+Warranty!G27 -> 1112020 | H22: =IFERROR(+F22-G22,0) -> 287980 | I22: =IFERROR(+F22/$F$29,0) -> 1 | J22: =IFERROR(+H22/$H$29,0) -> 1 | M22: Add Services | N22: Amount | O22: Detail
A23: Dept Name 2 | F23: =IFERROR(+PG!G30+SD!G30+DD!G30+CD!G30+BN!G29+CA!G29+Warranty!G29,0) -> 0 | G23: =+PG!G52+SD!G52+DD!G52+CD!G52+BN!G50+CA!G50+Warranty!G50 -> 0 | H23: =IFERROR(+F23-G23,0) -> 0 | I23: =IFERROR(+F23/$F$29,0) -> 0 | J23: =IFERROR(+H23/$H$29,0) -> 0 | M23: Add Svcs #01 | N23: 0
A24: Dept Name 3 | F24: =IFERROR(+PG!G54+SD!G54+DD!G54+CD!G54+BN!G52+CA!G52+Warranty!G52,0) -> 0 | G24: =+PG!G76+SD!G76+DD!G76+CD!G76+BN!G73+CA!G73+Warranty!G73 -> 0 | H24: =IFERROR(+F24-G24,0) -> 0 | I24: =IFERROR(+F24/$F$29,0) -> 0 | J24: =IFERROR(+H24/$H$29,0) -> 0 | M24: Add Svcs #02 | N24: 0
A25: Mechanical (consultant) | F25: =IFERROR(+PG!G78+SD!G78+DD!G78+CD!G78+BN!G75+CA!G75+Warranty!G75,0) -> 0 | G25: =+PG!G81+SD!G81+DD!G81+CD!G81+BN!G78+CA!G78+Warranty!G78 -> 0 | H25: =IFERROR(+F25-G25,0) -> 0 | I25: =IFERROR(+F25/$F$29,0) -> 0 | J25: =IFERROR(+H25/$H$29,0) -> 0 | M25: Add Svcs #03 | N25: 0
A26: Misc | F26: =IFERROR(+PG!G83+SD!G83+DD!G83+CD!G83+BN!G80+CA!G80+Warranty!G80,0) -> 0 | G26: =+PG!G88+SD!G88+DD!G88+CD!G88+BN!G85+CA!G85+Warranty!G85 -> 0 | H26: =IFERROR(+F26-G26,0) -> 0 | I26: =IFERROR(+F26/$F$29,0) -> 0 | J26: =IFERROR(+H26/$H$29,0) -> 0 | M26: Add Svcs #04 | N26: 0
M27: Add Svcs #05 | N27: 0
A29: Total | F29: =IFERROR(+SUM(F22:F26),0) -> 1400000 | G29: =+SUM(G22:G26) -> 1112020 | H29: =IFERROR(+SUM(H22:H26),0) -> 287980 | I29: =IFERROR(+SUM(I22:I26),0) -> 1 | J29: =IFERROR(+SUM(J22:J26),0) -> 1
A31: Schedule basis
A32: PRINCIPAL IN CHARGE: | E32: Marcus Webb | M32: Total | N32: =SUM(N23:N30) -> 0
A33: INTERIORS: | E33: Miranda G., Grant H.
A34: ARCHITECTURE: | E34: Dana Reyes, Roger S., Sebastian Z., Amy T.
A35: QA/QC Process Information: | E35: QA/QC - Milo
A37: Approval
A39: =A22 -> Architecture / Interiors | B39: Office Manager | E39: NAME
A40: =A23 -> Dept Name 2 | B40: Office Manager | E40: NAME
A41: =A24 -> Dept Name 3 | B41: Office Manager | E41: NAME
A42: =A25 -> Mechanical (consultant) | B42: Office Manager | E42: NAME
A43: =A26 -> Misc | B43: Office Manager

Sheet PG
A1: =+'Budget Updated'!A2 -> Oakhaven Public Safety Campus - GRC-26-0142
A3: =+'Budget Updated'!A12 -> Programming
B4: =+(J5-I5)/7 -> 3 | C4: Phase Duration in Weeks | F4: Department % | G4: PHASE FEE | H4: FEE LESS PROFIT | I4: START DATE | J4: COMPLETION DATE | K4: PERSONNEL % OF FEE PER DEPT
B5: hr/wk | I5: ='Budget Updated'!C12 -> 46244 | J5: ='Budget Updated'!D12 -> 46265
C6: ='Budget Updated'!A22 -> Architecture / Interiors | D6: Hours | E6: Cost | F6: =+G28/($G$28+$G$52+$G$76+$G$81+$G$88) -> 1 | G6: ='Budget Updated'!$H$12*F6 -> 70000 | H6: =G6*(100%-'Budget Updated'!$B$8) -> 56000
B7: =D7/$B$4 -> 0 | C7: Principal 1 | E7: 315 | G7: =E7*D7 -> 0 | K7: =IFERROR(G7/$G$6,0) -> 0
A8: Marcus W. | B8: =D8/$B$4 -> 13.333333 | C8: Principal 2 | D8: 40 | E8: 310 | G8: =E8*D8 -> 12400 | K8: =IFERROR(G8/$G$6,0) -> 0.17714286
B9: =D9/$B$4 -> 0 | C9: Principal 3 | E9: 250 | G9: =E9*D9 -> 0 | K9: =IFERROR(G9/$G$6,0) -> 0
A10: Dana R | B10: =D10/$B$4 -> 13.333333 | C10: Senior Project Manager | D10: 40 | E10: 175 | G10: =E10*D10 -> 7000 | K10: =IFERROR(G10/$G$6,0) -> 0.1
A11: Roger S | B11: =D11/$B$4 -> 0 | C11: Senior Architect | E11: 170 | G11: =E11*D11 -> 0 | K11: =IFERROR(G11/$G$6,0) -> 0
B12: =D12/$B$4 -> 0 | C12: Project Manager | E12: 150 | G12: =E12*D12 -> 0 | K12: =IFERROR(G12/$G$6,0) -> 0
A13: Sebastian Z | B13: =D13/$B$4 -> 20 | C13: Architect | D13: 60 | E13: 155 | G13: =E13*D13 -> 9300 | K13: =IFERROR(G13/$G$6,0) -> 0.13285714
B14: =D14/$B$4 -> 0 | C14: Senior Design Professional (Architecture) | E14: 140 | G14: =E14*D14 -> 0 | K14: =IFERROR(G14/$G$6,0) -> 0
A15: Amy T | B15: =D15/$B$4 -> 0 | C15: Design Professional (Architecture) | D15: 0 | E15: 115 | G15: =E15*D15 -> 0 | K15: =IFERROR(G15/$G$6,0) -> 0
B16: =D16/$B$4 -> 0 | C16: Design Intern (Architecture) | E16: 65 | G16: =E16*D16 -> 0 | K16: =IFERROR(G16/$G$6,0) -> 0
B17: =D17/$B$4 -> 0 | C17: Senior Interior Designer Project Manager | E17: 155 | G17: =E17*D17 -> 0 | K17: =IFERROR(G17/$G$6,0) -> 0
A18: Miranda G. | B18: =D18/$B$4 -> 13.333333 | C18: Senior Interior Designer | D18: 40 | E18: 145 | G18: =E18*D18 -> 5800 | K18: =IFERROR(G18/$G$6,0) -> 0.082857143
B19: =D19/$B$4 -> 0 | C19: Interior Project Manager | E19: 125 | G19: =E19*D19 -> 0 | K19: =IFERROR(G19/$G$6,0) -> 0
B20: =D20/$B$4 -> 0 | C20: Interior Designer | E20: 110 | G20: =E20*D20 -> 0 | K20: =IFERROR(G20/$G$6,0) -> 0
A21: Grant H | B21: =D21/$B$4 -> 0 | C21: Design Professional (Interiors) | D21: 0 | E21: 100 | G21: =E21*D21 -> 0 | K21: =IFERROR(G21/$G$6,0) -> 0
B22: =D22/$B$4 -> 0 | C22: Design Intern (Interiors) | E22: 50 | G22: =E22*D22 -> 0 | K22: =IFERROR(G22/$G$6,0) -> 0
B23: =D23/$B$4 -> 0 | C23: Construction Administration | D23: 0 | E23: 130 | G23: =E23*D23 -> 0 | K23: =IFERROR(G23/$G$6,0) -> 0
B24: 0 | C24: BIM Manager | D24: 0 | E24: 150 | G24: =E24*D24 -> 0 | K24: =IFERROR(G24/$G$6,0) -> 0
B25: =D25/$B$4 -> 0 | C25: Director of VDC | E25: 155 | G25: =E25*D25 -> 0 | K25: =IFERROR(G25/$G$6,0) -> 0
A26: William S | B26: =D26/$B$4 -> 0 | C26: QC Peer Reviewer | D26: 0 | E26: 175 | G26: =E26*D26 -> 0 | K26: =IFERROR(G26/$G$6,0) -> 0 | L26: Update Cost cell based on Reviewer's Staff Type
B27: =D27/$B$4 -> 0 | C27: Administrative | E27: 80 | G27: =E27*D27 -> 0 | K27: =IFERROR(G27/G6,0) -> 0
G28: =SUM(G7:G27) -> 34500 | K28: =SUM(K7:K27) -> 0.49285714
C30: ='Budget Updated'!A23 -> Dept Name 2 | F30: =+G52/($G$28+$G$52+$G$76+$G$81+$G$88) -> 0 | G30: ='Budget Updated'!$H$12*F30 -> 0 | H30: =G30*(100%-'Budget Updated'!$B$8) -> 0
B31: =D31/$B$4 -> 0 | C31: Principal 1 | E31: 315 | G31: =E31*D31 -> 0 | K31: =IFERROR(G31/$G$30,0) -> 0
B32: =D32/$B$4 -> 0 | C32: Principal 2 | E32: 310 | G32: =E32*D32 -> 0 | K32: =IFERROR(G32/$G$30,0) -> 0
B33: =D33/$B$4 -> 0 | C33: Principal 3 | E33: 250 | G33: =E33*D33 -> 0 | K33: =IFERROR(G33/$G$30,0) -> 0
B34: =D34/$B$4 -> 0 | C34: Senior Project Manager | E34: 175 | G34: =E34*D34 -> 0 | K34: =IFERROR(G34/$G$30,0) -> 0
B35: =D35/$B$4 -> 0 | C35: Senior Architect | E35: 170 | G35: =E35*D35 -> 0 | K35: =IFERROR(G35/$G$30,0) -> 0
B36: =D36/$B$4 -> 0 | C36: Project Manager | E36: 150 | G36: =E36*D36 -> 0 | K36: =IFERROR(G36/$G$30,0) -> 0
B37: =D37/$B$4 -> 0 | C37: Architect | E37: 155 | G37: =E37*D37 -> 0 | K37: =IFERROR(G37/$G$30,0) -> 0
B38: =D38/$B$4 -> 0 | C38: Senior Design Professional (Architecture) | E38: 140 | G38: =E38*D38 -> 0 | K38: =IFERROR(G38/$G$30,0) -> 0
B39: =D39/$B$4 -> 0 | C39: Design Professional (Architecture) | E39: 115 | G39: =E39*D39 -> 0 | K39: =IFERROR(G39/$G$30,0) -> 0
B40: =D40/$B$4 -> 0 | C40: Design Intern (Architecture) | E40: 65 | G40: =E40*D40 -> 0 | K40: =IFERROR(G40/$G$30,0) -> 0
B41: =D41/$B$4 -> 0 | C41: Senior Interior Designer Project Manager | E41: 155 | G41: =E41*D41 -> 0 | K41: =IFERROR(G41/$G$30,0) -> 0
B42: =D42/$B$4 -> 0 | C42: Senior Interior Designer | E42: 145 | G42: =E42*D42 -> 0 | K42: =IFERROR(G42/$G$30,0) -> 0
...

Sheet SD
A1: =+'Budget Updated'!A2 -> Oakhaven Public Safety Campus - GRC-26-0142
A3: =+'Budget Updated'!A13 -> Schematic Design
B4: =+(J5-I5)/7 -> 6.4285714 | F4: Department % | G4: PHASE FEE | H4: FEE LESS PROFIT | I4: START DATE | J4: COMPLETION DATE | K4: PERSONNEL % OF FEE PER DEPT
B5: hr/wk | I5: ='Budget Updated'!C13 -> 46266 | J5: ='Budget Updated'!D13 -> 46311
C6: ='Budget Updated'!A22 -> Architecture / Interiors | D6: Hours | E6: Cost | F6: =+G28/($G$28+$G$52+$G$76+$G$81+$G$88) -> 1 | G6: =+F6*'Budget Updated'!$H$13 -> 210000 | H6: =G6*(100%-'Budget Updated'!B8) -> 168000
A7: =PG!A7 -> 0 | B7: =D7/$B$4 -> 0 | C7: Principal 1 | E7: 315 | G7: =E7*D7 -> 0 | K7: =IFERROR(G7/$G$6,0) -> 0
A8: =PG!A8 -> Marcus W. | B8: =D8/$B$4 -> 12.444444 | C8: Principal 2 | D8: 80 | E8: 310 | G8: =E8*D8 -> 24800 | K8: =IFERROR(G8/$G$6,0) -> 0.11809524
A9: =PG!A9 -> 0 | B9: =D9/$B$4 -> 0 | C9: Principal 3 | E9: 250 | G9: =E9*D9 -> 0 | K9: =IFERROR(G9/$G$6,0) -> 0
A10: =PG!A10 -> Dana R | B10: =D10/$B$4 -> 12.444444 | C10: Senior Project Manager | D10: 80 | E10: 175 | G10: =E10*D10 -> 14000 | K10: =IFERROR(G10/$G$6,0) -> 0.066666667
A11: =PG!A11 -> Roger S | B11: =D11/$B$4 -> 20.222222 | C11: Senior Architect | D11: 130 | E11: 170 | G11: =E11*D11 -> 22100 | K11: =IFERROR(G11/$G$6,0) -> 0.1052381
A12: =PG!A12 -> 0 | B12: =D12/$B$4 -> 0 | C12: Project Manager | E12: 150 | G12: =E12*D12 -> 0 | K12: =IFERROR(G12/$G$6,0) -> 0
A13: =PG!A13 -> Sebastian Z | B13: =D13/$B$4 -> 20.222222 | C13: Architect | D13: 130 | E13: 155 | G13: =E13*D13 -> 20150 | K13: =IFERROR(G13/$G$6,0) -> 0.095952381
A14: =PG!A14 -> 0 | B14: =D14/$B$4 -> 0 | C14: Senior Design Professional (Architecture) | E14: 140 | G14: =E14*D14 -> 0 | K14: =IFERROR(G14/$G$6,0) -> 0
A15: =PG!A15 -> Amy T | B15: =D15/$B$4 -> 28 | C15: Design Professional (Architecture) | D15: 180 | E15: 115 | G15: =+D15*E15 -> 20700 | K15: =IFERROR(G15/$G$6,0) -> 0.098571429
A16: =PG!A16 -> 0 | B16: =D16/$B$4 -> 0 | C16: Design Intern (Architecture) | E16: 65 | G16: =+D16*E16 -> 0 | K16: =IFERROR(G16/$G$6,0) -> 0
A17: =PG!A17 -> 0 | B17: =D17/$B$4 -> 0 | C17: Senior Interior Designer Project Manager | E17: 155 | G17: =+D17*E17 -> 0 | K17: =IFERROR(G17/$G$6,0) -> 0
A18: =PG!A18 -> Miranda G. | B18: =D18/$B$4 -> 12.444444 | C18: Senior Interior Designer | D18: 80 | E18: 145 | G18: =+D18*E18 -> 11600 | K18: =IFERROR(G18/$G$6,0) -> 0.055238095
A19: =PG!A19 -> 0 | B19: =D19/$B$4 -> 0 | C19: Interior Project Manager | E19: 125 | G19: =+D19*E19 -> 0 | K19: =IFERROR(G19/$G$6,0) -> 0
A20: =PG!A20 -> 0 | B20: =D20/$B$4 -> 0 | C20: Interior Designer | E20: 110 | G20: =+D20*E20 -> 0 | K20: =IFERROR(G20/$G$6,0) -> 0
A21: =PG!A21 -> Grant H | B21: =D21/$B$4 -> 8.0888889 | C21: Design Professional (Interiors) | D21: 52 | E21: 100 | G21: =+D21*E21 -> 5200 | K21: =IFERROR(G21/$G$6,0) -> 0.024761905
A22: =PG!A22 -> 0 | B22: =D22/$B$4 -> 0 | C22: Design Intern (Interiors) | E22: 50 | G22: =+D22*E22 -> 0 | K22: =IFERROR(G22/$G$6,0) -> 0
A23: =PG!A23 -> 0 | B23: =D23/$B$4 -> 0 | C23: Construction Administration | E23: 130 | G23: =+D23*E23 -> 0 | K23: =IFERROR(G23/$G$6,0) -> 0
A24: =PG!A23 -> 0 | B24: =D24/$B$4 -> 0 | C24: BIM Manager | E24: 150 | G24: =+D24*E24 -> 0 | K24: =IFERROR(G24/$G$6,0) -> 0
A25: =PG!A25 -> 0 | B25: =D25/$B$4 -> 0 | C25: Director of VDC | E25: 155 | G25: =+D25*E25 -> 0 | K25: =IFERROR(G25/$G$6,0) -> 0
A26: =PG!A26 -> William S | B26: =D26/$B$4 -> 1.8666667 | C26: QC Peer Reviewer | D26: 12 | E26: =PG!E26 -> 175 | G26: =+D26*E26 -> 2100 | K26: =IFERROR(G26/$G$6,0) -> 0.01
A27: =PG!A27 -> 0 | B27: =D27/$B$4 -> 0 | C27: Administrative | D27: 0 | E27: 80 | G27: =E27*D27 -> 0 | K27: =IFERROR(G27/G6,0) -> 0
G28: =SUM(G7:G27) -> 120650 | K28: =SUM(K7:K27) -> 0.57452381
C30: ='Budget Updated'!A23 -> Dept Name 2 | F30: =+G52/($G$28+$G$52+$G$76+$G$81+$G$88) -> 0 | G30: ='Budget Updated'!$H$13*F30 -> 0 | H30: =G30*(100%-'Budget Updated'!$B$8) -> 0
A31: =PG!A31 -> 0 | B31: =D31/$B$4 -> 0 | C31: Principal 1 | E31: 315 | G31: =E31*D31 -> 0 | K31: =IFERROR(G31/$G$30,0) -> 0
A32: =PG!A32 -> 0 | B32: =D32/$B$4 -> 0 | C32: Principal 2 | E32: 310 | G32: =E32*D32 -> 0 | K32: =IFERROR(G32/$G$30,0) -> 0
A33: =PG!A33 -> 0 | B33: =D33/$B$4 -> 0 | C33: Principal 3 | E33: 250 | G33: =E33*D33 -> 0 | K33: =IFERROR(G33/$G$30,0) -> 0
A34: =PG!A34 -> 0 | B34: =D34/$B$4 -> 0 | C34: Senior Project Manager | E34: 175 | G34: =E34*D34 -> 0 | K34: =IFERROR(G34/$G$30,0) -> 0
A35: =PG!A35 -> 0 | B35: =D35/$B$4 -> 0 | C35: Senior Architect | E35: 170 | G35: =E35*D35 -> 0 | K35: =IFERROR(G35/$G$30,0) -> 0
A36: =PG!A36 -> 0 | B36: =D36/$B$4 -> 0 | C36: Project Manager | E36: 150 | G36: =E36*D36 -> 0 | K36: =IFERROR(G36/$G$30,0) -> 0
A37: =PG!A37 -> 0 | B37: =D37/$B$4 -> 0 | C37: Architect | E37: 155 | G37: =E37*D37 -> 0 | K37: =IFERROR(G37/$G$30,0) -> 0
A38: =PG!A38 -> 0 | B38: =D38/$B$4 -> 0 | C38: Senior Design Professional (Architecture) | E38: 140 | G38: =E38*D38 -> 0 | K38: =IFERROR(G38/$G$30,0) -> 0
A39: =PG!A39 -> 0 | B39: =D39/$B$4 -> 0 | C39: Design Professional (Architecture) | E39: 115 | G39: =E39*D39 -> 0 | K39: =IFERROR(G39/$G$30,0) -> 0
A40: =PG!A40 -> 0 | B40: =D40/$B$4 -> 0 | C40: Design Intern (Architecture) | E40: 65 | G40: =E40*D40 -> 0 | K40: =IFERROR(G40/$G$30,0) -> 0
A41: =PG!A41 -> 0 | B41: =D41/$B$4 -> 0 | C41: Senior Interior Designer Project Manager | E41: 155 | G41: =E41*D41 -> 0 | K41: =IFERROR(G41/$G$30,0) -> 0
A42: =PG!A42 -> 0 | B42: =D42/$B$4 -> 0 | C42: Senior Interior Designer | E42: 145 | G42: =E42*D42 -> 0 | K42: =IFERROR(G42/$G$30,0) -> 0
...

Sheet DD
A1: =+'Budget Updated'!A2 -> Oakhaven Public Safety Campus - GRC-26-0142
A3: =+'Budget Updated'!A14 -> Design Development
B4: =(+J5-I5)/7 -> 12.857143 | C4: Phase Duration in Weeks | F4: Department % | G4: PHASE FEE | H4: FEE LESS PROFIT | I4: START DATE | J4: COMPLETION DATE | K4: PERSONNEL % OF FEE PER DEPT
B5: hr/wk | I5: ='Budget Updated'!C14 -> 46312 | J5: ='Budget Updated'!D14 -> 46402
C6: ='Budget Updated'!A22 -> Architecture / Interiors | D6: Hours | E6: Cost | F6: =+G28/($G$28+$G$52+$G$76+$G$81+$G$88) -> 1 | G6: ='Budget Updated'!$H$14*F6 -> 280000 | H6: =G6*(100%-'Budget Updated'!$B$8) -> 224000
A7: =PG!A7 -> 0 | B7: =D7/$B$4 -> 0 | C7: Principal 1 | E7: 315 | G7: =E7*D7 -> 0 | K7: =IFERROR(G7/$G$6,0) -> 0
A8: =PG!A8 -> Marcus W. | B8: =D8/$B$4 -> 3.8888889 | C8: Principal 2 | D8: 50 | E8: 310 | G8: =E8*D8 -> 15500 | K8: =IFERROR(G8/$G$6,0) -> 0.055357143
A9: =PG!A9 -> 0 | B9: =D9/$B$4 -> 0 | C9: Principal 3 | E9: 250 | G9: =E9*D9 -> 0 | K9: =IFERROR(G9/$G$6,0) -> 0
A10: =PG!A10 -> Dana R | B10: =D10/$B$4 -> 20.222222 | C10: Senior Project Manager | D10: 260 | E10: 175 | G10: =E10*D10 -> 45500 | K10: =IFERROR(G10/$G$6,0) -> 0.1625
A11: =PG!A11 -> Roger S | B11: =D11/$B$4 -> 20.222222 | C11: Senior Architect | D11: 260 | E11: 170 | G11: =E11*D11 -> 44200 | K11: =IFERROR(G11/$G$6,0) -> 0.15785714
A12: =PG!A12 -> 0 | B12: =D12/$B$4 -> 0 | C12: Project Manager | E12: 150 | G12: =E12*D12 -> 0 | K12: =IFERROR(G12/$G$6,0) -> 0
A13: =PG!A13 -> Sebastian Z | B13: =D13/$B$4 -> 20.222222 | C13: Architect | D13: 260 | E13: 155 | G13: =E13*D13 -> 40300 | K13: =IFERROR(G13/$G$6,0) -> 0.14392857
A14: =PG!A14 -> 0 | B14: =D14/$B$4 -> 0 | C14: Senior Design Professional (Architecture) | E14: 140 | G14: =E14*D14 -> 0 | K14: =IFERROR(G14/$G$6,0) -> 0
A15: =PG!A15 -> Amy T | B15: =D15/$B$4 -> 27.222222 | C15: Design Professional (Architecture) | D15: 350 | E15: 115 | G15: =+D15*E15 -> 40250 | K15: =IFERROR(G15/$G$6,0) -> 0.14375
A16: =PG!A16 -> 0 | B16: =D16/$B$4 -> 0 | C16: Design Intern (Architecture) | E16: 65 | G16: =+D16*E16 -> 0 | K16: =IFERROR(G16/$G$6,0) -> 0
A17: =PG!A17 -> 0 | B17: =D17/$B$4 -> 0 | C17: Senior Interior Designer Project Manager | E17: 155 | G17: =+D17*E17 -> 0 | K17: =IFERROR(G17/$G$6,0) -> 0
A18: =PG!A18 -> Miranda G. | B18: =D18/$B$4 -> 12.444444 | C18: Senior Interior Designer | D18: 160 | E18: 145 | G18: =+D18*E18 -> 23200 | K18: =IFERROR(G18/$G$6,0) -> 0.082857143
A19: =PG!A19 -> 0 | B19: =D19/$B$4 -> 0 | C19: Interior Project Manager | E19: 125 | G19: =+D19*E19 -> 0 | K19: =IFERROR(G19/$G$6,0) -> 0
A20: =PG!A20 -> 0 | B20: =D20/$B$4 -> 0 | C20: Interior Designer | E20: 110 | G20: =+D20*E20 -> 0 | K20: =IFERROR(G20/$G$6,0) -> 0
A21: =PG!A21 -> Grant H | B21: =D21/$B$4 -> 20.222222 | C21: Design Professional (Interiors) | D21: 260 | E21: 100 | G21: =+D21*E21 -> 26000 | K21: =IFERROR(G21/$G$6,0) -> 0.092857143
A22: =PG!A22 -> 0 | B22: =D22/$B$4 -> 0 | C22: Design Intern (Interiors) | E22: 50 | G22: =+D22*E22 -> 0 | K22: =IFERROR(G22/$G$6,0) -> 0
A23: =PG!A23 -> 0 | B23: =D23/$B$4 -> 0 | C23: Construction Administration | E23: 130 | G23: =+D23*E23 -> 0 | K23: =IFERROR(G23/$G$6,0) -> 0
A24: =PG!A24 -> 0 | B24: =D24/$B$4 -> 0 | C24: BIM Manager | E24: 150 | G24: =+D24*E24 -> 0 | K24: =IFERROR(G24/$G$6,0) -> 0
A25: =PG!A25 -> 0 | B25: =D25/$B$4 -> 0 | C25: Director of VDC | E25: 155 | G25: =+D25*E25 -> 0 | K25: =IFERROR(G25/$G$6,0) -> 0
A26: =PG!A26 -> William S | B26: =D26/$B$4 -> 1.4 | C26: QC Peer Reviewer | D26: 18 | E26: =PG!E26 -> 175 | G26: =+D26*E26 -> 3150 | K26: =IFERROR(G26/$G$6,0) -> 0.01125
A27: =PG!A27 -> 0 | B27: =D27/$B$4 -> 0 | C27: Administrative | E27: 80 | G27: =E27*D27 -> 0 | K27: =IFERROR(G27/$G$6,0) -> 0
G28: =SUM(G7:G27) -> 238100 | K28: =SUM(K7:K27) -> 0.85035714
C30: ='Budget Updated'!A23 -> Dept Name 2 | F30: =+G52/($G$28+$G$52+$G$76+$G$81+$G$88) -> 0 | G30: ='Budget Updated'!$H$14*F30 -> 0 | H30: =G30*(100%-'Budget Updated'!$B$8) -> 0
A31: =PG!A31 -> 0 | B31: =D31/$B$4 -> 0 | C31: Principal 1 | E31: 315 | G31: =E31*D31 -> 0
A32: =PG!A32 -> 0 | B32: =D32/$B$4 -> 0 | C32: Principal 2 | E32: 310 | G32: =E32*D32 -> 0 | K32: =IFERROR(G32/$G$30,0) -> 0
A33: =PG!A33 -> 0 | B33: =D33/$B$4 -> 0 | C33: Principal 3 | E33: 250 | G33: =E33*D33 -> 0 | K33: =IFERROR(G33/$G$30,0) -> 0
A34: =PG!A34 -> 0 | B34: =D34/$B$4 -> 0 | C34: Senior Project Manager | E34: 175 | G34: =E34*D34 -> 0 | K34: =IFERROR(G34/$G$30,0) -> 0
A35: =PG!A35 -> 0 | B35: =D35/$B$4 -> 0 | C35: Senior Architect | E35: 170 | G35: =E35*D35 -> 0 | K35: =IFERROR(G35/$G$30,0) -> 0
A36: =PG!A36 -> 0 | B36: =D36/$B$4 -> 0 | C36: Project Manager | E36: 150 | G36: =E36*D36 -> 0 | K36: =IFERROR(G36/$G$30,0) -> 0
A37: =PG!A37 -> 0 | B37: =D37/$B$4 -> 0 | C37: Architect | E37: 155 | G37: =E37*D37 -> 0 | K37: =IFERROR(G37/$G$30,0) -> 0
A38: =PG!A38 -> 0 | B38: =D38/$B$4 -> 0 | C38: Senior Design Professional (Architecture) | E38: 140 | G38: =E38*D38 -> 0 | K38: =IFERROR(G38/$G$30,0) -> 0
A39: =PG!A39 -> 0 | B39: =D39/$B$4 -> 0 | C39: Design Professional (Architecture) | E39: 115 | G39: =E39*D39 -> 0 | K39: =IFERROR(G39/$G$30,0) -> 0
A40: =PG!A40 -> 0 | B40: =D40/$B$4 -> 0 | C40: Design Intern (Architecture) | E40: 65 | G40: =E40*D40 -> 0 | K40: =IFERROR(G40/$G$30,0) -> 0
A41: =PG!A41 -> 0 | B41: =D41/$B$4 -> 0 | C41: Senior Interior Designer Project Manager | E41: 155 | G41: =E41*D41 -> 0 | K41: =IFERROR(G41/$G$30,0) -> 0
A42: =PG!A42 -> 0 | B42: =D42/$B$4 -> 0 | C42: Senior Interior Designer | E42: 145 | G42: =E42*D42 -> 0 | K42: =IFERROR(G42/$G$30,0) -> 0
...

Sheet CD
A1: =+'Budget Updated'!A2 -> Oakhaven Public Safety Campus - GRC-26-0142
A3: =+'Budget Updated'!A15 -> Construction Documents
B4: =(+J5-I5)/7 -> 17.142857 | C4: Phase Duration in Weeks | F4: Department % | G4: PHASE FEE | H4: FEE LESS PROFIT | I4: START DATE | J4: COMPLETION DATE | K4: PERSONNEL % OF FEE PER DEPT
B5: hr/wk | I5: ='Budget Updated'!C15 -> 46403 | J5: ='Budget Updated'!D15 -> 46523
C6: ='Budget Updated'!A22 -> Architecture / Interiors | D6: Hours | E6: Cost | F6: =+G28/($G$28+$G$52+$G$76+$G$81+$G$88) -> 1 | G6: ='Budget Updated'!$H$15*F6 -> 490000 | H6: =G6*(100%-'Budget Updated'!$B$8) -> 392000
A7: =PG!A7 -> 0 | B7: =D7/$B$4 -> 0 | C7: Principal 1 | E7: 315 | G7: =E7*D7 -> 0 | K7: =IFERROR(G7/$G$6,0) -> 0
A8: =PG!A8 -> Marcus W. | B8: =D8/$B$4 -> 2.3333333 | C8: Principal 2 | D8: 40 | E8: 310 | G8: =E8*D8 -> 12400 | K8: =IFERROR(G8/$G$6,0) -> 0.025306122
A9: =PG!A9 -> 0 | B9: =D9/$B$4 -> 0 | C9: Principal 3 | E9: 250 | G9: =E9*D9 -> 0 | K9: =IFERROR(G9/$G$6,0) -> 0
A10: =PG!A10 -> Dana R | B10: =D10/$B$4 -> 20.416667 | C10: Senior Project Manager | D10: 350 | E10: 175 | G10: =E10*D10 -> 61250 | K10: =IFERROR(G10/$G$6,0) -> 0.125
A11: =PG!A11 -> Roger S | B11: =D11/$B$4 -> 29.75 | C11: Senior Architect | D11: 510 | E11: 170 | G11: =E11*D11 -> 86700 | K11: =IFERROR(G11/$G$6,0) -> 0.17693878
A12: =PG!A12 -> 0 | B12: =D12/$B$4 -> 0 | C12: Project Manager | E12: 150 | G12: =E12*D12 -> 0 | K12: =IFERROR(G12/$G$6,0) -> 0
A13: =PG!A13 -> Sebastian Z | B13: =D13/$B$4 -> 26.833333 | C13: Architect | D13: 460 | E13: 155 | G13: =E13*D13 -> 71300 | K13: =IFERROR(G13/$G$6,0) -> 0.1455102
A14: =PG!A14 -> 0 | B14: =D14/$B$4 -> 0 | C14: Senior Design Professional (Architecture) | E14: 140 | G14: =E14*D14 -> 0 | K14: =IFERROR(G14/$G$6,0) -> 0
A15: =PG!A15 -> Amy T | B15: =D15/$B$4 -> 29.75 | C15: Design Professional (Architecture) | D15: 510 | E15: 115 | G15: =E15*D15 -> 58650 | K15: =IFERROR(G15/$G$6,0) -> 0.11969388
A16: =PG!A16 -> 0 | B16: =D16/$B$4 -> 0 | C16: Design Intern (Architecture) | E16: 65 | G16: =E16*D16 -> 0 | K16: =IFERROR(G16/$G$6,0) -> 0
A17: =PG!A17 -> 0 | B17: =D17/$B$4 -> 0 | C17: Senior Interior Designer Project Manager | E17: 155 | G17: =E17*D17 -> 0 | K17: =IFERROR(G17/$G$6,0) -> 0
A18: =PG!A18 -> Miranda G. | B18: =D18/$B$4 -> 20.416667 | C18: Senior Interior Designer | D18: 350 | E18: 145 | G18: =E18*D18 -> 50750 | K18: =IFERROR(G18/$G$6,0) -> 0.10357143
A19: =PG!A19 -> 0 | B19: =D19/$B$4 -> 0 | C19: Interior Project Manager | E19: 125 | G19: =E19*D19 -> 0 | K19: =IFERROR(G19/$G$6,0) -> 0
A20: =PG!A20 -> 0 | B20: =D20/$B$4 -> 0 | C20: Interior Designer | E20: 110 | G20: =E20*D20 -> 0 | K20: =IFERROR(G20/$G$6,0) -> 0
A21: =PG!A21 -> Grant H | B21: =D21/$B$4 -> 26.833333 | C21: Design Professional (Interiors) | D21: 460 | E21: 100 | G21: =+D21*E21 -> 46000 | K21: =IFERROR(G21/$G$6,0) -> 0.093877551
A22: =PG!A22 -> 0 | B22: =D22/$B$4 -> 0 | C22: Design Intern (Interiors) | E22: 50 | G22: =+D22*E22 -> 0 | K22: =IFERROR(G22/$G$6,0) -> 0
A23: =PG!A23 -> 0 | B23: =D23/$B$4 -> 0 | C23: Construction Administration | E23: 130 | G23: =+D23*E23 -> 0 | K23: =IFERROR(G23/$G$6,0) -> 0
A24: =PG!A24 -> 0 | B24: =D24/$B$4 -> 0 | C24: BIM Manager | E24: 150 | G24: =+D24*E24 -> 0 | K24: =IFERROR(G24/$G$6,0) -> 0
A25: =PG!A25 -> 0 | B25: =D25/$B$4 -> 0 | C25: Director of VDC | E25: 155 | G25: =+D25*E25 -> 0 | K25: =IFERROR(G25/$G$6,0) -> 0
A26: =PG!A26 -> William S | B26: =D26/$B$4 -> 2.3333333 | C26: QC Peer Reviewer | D26: 40 | E26: =PG!E26 -> 175 | G26: =E26*D26 -> 7000 | K26: =IFERROR(G26/$G$6,0) -> 0.014285714
A27: =PG!A27 -> 0 | B27: =D27/$B$4 -> 0 | C27: Administrative | E27: 80 | G27: =E27*D27 -> 0 | K27: =IFERROR(G27/$G$6,0) -> 0
G28: =SUM(G7:G27) -> 394050 | K28: =SUM(K7:K27) -> 0.80418367
C30: ='Budget Updated'!A23 -> Dept Name 2 | F30: =+G52/($G$28+$G$52+$G$76+$G$81+$G$88) -> 0 | G30: ='Budget Updated'!$H$15*F30 -> 0 | H30: =G30*(100%-'Budget Updated'!$B$8) -> 0
A31: =PG!A31 -> 0 | B31: =D31/$B$4 -> 0 | C31: Principal 1 | E31: 315 | G31: =E31*D31 -> 0 | K31: =IFERROR(G31/$G$30,0) -> 0
A32: =PG!A32 -> 0 | B32: =D32/$B$4 -> 0 | C32: Principal 2 | E32: 310 | G32: =E32*D32 -> 0 | K32: =IFERROR(G32/$G$30,0) -> 0
A33: =PG!A33 -> 0 | B33: =D33/$B$4 -> 0 | C33: Principal 3 | E33: 250 | G33: =E33*D33 -> 0 | K33: =IFERROR(G33/$G$30,0) -> 0
A34: =PG!A34 -> 0 | B34: =D34/$B$4 -> 0 | C34: Senior Project Manager | E34: 175 | G34: =E34*D34 -> 0 | K34: =IFERROR(G34/$G$30,0) -> 0
A35: =PG!A35 -> 0 | B35: =D35/$B$4 -> 0 | C35: Senior Architect | E35: 170 | G35: =E35*D35 -> 0 | K35: =IFERROR(G35/$G$30,0) -> 0
A36: =PG!A36 -> 0 | B36: =D36/$B$4 -> 0 | C36: Project Manager | E36: 150 | G36: =E36*D36 -> 0 | K36: =IFERROR(G36/$G$30,0) -> 0
A37: =PG!A37 -> 0 | B37: =D37/$B$4 -> 0 | C37: Architect | E37: 155 | G37: =E37*D37 -> 0 | K37: =IFERROR(G37/$G$30,0) -> 0
A38: =PG!A38 -> 0 | B38: =D38/$B$4 -> 0 | C38: Senior Design Professional (Architecture) | E38: 140 | G38: =E38*D38 -> 0 | K38: =IFERROR(G38/$G$30,0) -> 0
A39: =PG!A39 -> 0 | B39: =D39/$B$4 -> 0 | C39: Design Professional (Architecture) | E39: 115 | G39: =E39*D39 -> 0 | K39: =IFERROR(G39/$G$30,0) -> 0
A40: =PG!A40 -> 0 | B40: =D40/$B$4 -> 0 | C40: Design Intern (Architecture) | E40: 65 | G40: =E40*D40 -> 0 | K40: =IFERROR(G40/$G$30,0) -> 0
A41: =PG!A41 -> 0 | B41: =D41/$B$4 -> 0 | C41: Senior Interior Designer Project Manager | E41: 155 | G41: =E41*D41 -> 0 | K41: =IFERROR(G41/$G$30,0) -> 0
A42: =PG!A42 -> 0 | B42: =D42/$B$4 -> 0 | C42: Senior Interior Designer | E42: 145 | G42: =E42*D42 -> 0 | K42: =IFERROR(G42/$G$30,0) -> 0
...

Sheet BN
A1: =+'Budget Updated'!A2 -> Oakhaven Public Safety Campus - GRC-26-0142
A3: =+'Budget Updated'!A16 -> Bidding & Negotiations
B4: =(+J5-I5)/7 -> 8.5714286 | C4: Phase Duration in Weeks | F4: Department % | G4: PHASE FEE | H4: FEE LESS PROFIT | I4: START DATE | J4: COMPLETION DATE | K4: PERSONNEL % OF FEE PER DEPT
B5: hr/wk | I5: ='Budget Updated'!C16 -> 46524 | J5: ='Budget Updated'!D16 -> 46584
C6: ='Budget Updated'!A22 -> Architecture / Interiors | D6: Hours | E6: Cost | F6: =+G27/($G$27+$G$50+$G$73+$G$78+$G$85) -> 1 | G6: ='Budget Updated'!$H$16*F6 -> 70000 | H6: =G6*(100%-'Budget Updated'!$B$8) -> 56000
A7: =PG!A7 -> 0 | B7: =D7/$B$4 -> 0 | C7: Principal 1 | E7: 315 | G7: =E7*D7 -> 0 | K7: =IFERROR(G7/$G$6,0) -> 0
A8: =PG!A8 -> Marcus W. | B8: =D8/$B$4 -> 0.93333333 | C8: Principal 2 | D8: 8 | E8: 310 | G8: =E8*D8 -> 2480 | K8: =IFERROR(G8/$G$6,0) -> 0.035428571
A9: =PG!A9 -> 0 | B9: =D9/$B$4 -> 0 | C9: Principal 3 | E9: 250 | G9: =E9*D9 -> 0 | K9: =IFERROR(G9/$G$6,0) -> 0
A10: =PG!A10 -> Dana R | B10: =D10/$B$4 -> 5.8333333 | C10: Senior Project Manager | D10: 50 | E10: 175 | G10: =E10*D10 -> 8750 | K10: =IFERROR(G10/$G$6,0) -> 0.125
A11: =PG!A11 -> Roger S | B11: =D11/$B$4 -> 11.666667 | C11: Senior Architect | D11: 100 | E11: 170 | G11: =E11*D11 -> 17000 | K11: =IFERROR(G11/$G$6,0) -> 0.24285714
A12: =PG!A12 -> 0 | B12: =D12/$B$4 -> 0 | C12: Project Manager | E12: 150 | G12: =E12*D12 -> 0 | K12: =IFERROR(G12/$G$6,0) -> 0
A13: =PG!A13 -> Sebastian Z | B13: =D13/$B$4 -> 5.8333333 | C13: Architect | D13: 50 | E13: 155 | G13: =E13*D13 -> 7750 | K13: =IFERROR(G13/$G$6,0) -> 0.11071429
A14: =PG!A14 -> 0 | B14: =D14/$B$4 -> 0 | C14: Senior Design Professional (Architecture) | E14: 140 | G14: =E14*D14 -> 0 | K14: =IFERROR(G14/$G$6,0) -> 0
A15: =PG!A15 -> Amy T | B15: =D15/$B$4 -> 5.8333333 | C15: Design Professional (Architecture) | D15: 50 | E15: 115 | G15: =E15*D15 -> 5750 | K15: =IFERROR(G15/$G$6,0) -> 0.082142857
A16: =PG!A16 -> 0 | B16: =D16/$B$4 -> 0 | C16: Design Intern (Architecture) | E16: 65 | G16: =E16*D16 -> 0 | K16: =IFERROR(G16/$G$6,0) -> 0
A17: =PG!A17 -> 0 | B17: =D17/$B$4 -> 0 | C17: Senior Interior Designer Project Manager | E17: 155 | G17: =E17*D17 -> 0 | K17: =IFERROR(G17/$G$6,0) -> 0
A18: =PG!A18 -> Miranda G. | B18: =D18/$B$4 -> 5.8333333 | C18: Senior Interior Designer | D18: 50 | E18: 145 | G18: =E18*D18 -> 7250 | K18: =IFERROR(G18/$G$6,0) -> 0.10357143
A19: =PG!A19 -> 0 | B19: =D19/$B$4 -> 0 | C19: Interior Project Manager | E19: 125 | G19: =E19*D19 -> 0 | K19: =IFERROR(G19/$G$6,0) -> 0
A20: =PG!A20 -> 0 | B20: =D20/$B$4 -> 0 | C20: Interior Designer | E20: 110 | G20: =E20*D20 -> 0 | K20: =IFERROR(G20/$G$6,0) -> 0
A21: =PG!A21 -> Grant H | B21: =D21/$B$4 -> 5.8333333 | C21: Design Professional (Interiors) | D21: 50 | E21: 100 | G21: =+D21*E21 -> 5000 | K21: =IFERROR(G21/$G$6,0) -> 0.071428571
A22: =PG!A22 -> 0 | B22: =D22/$B$4 -> 0 | C22: Design Intern (Interiors) | E22: 50 | G22: =+D22*E22 -> 0 | K22: =IFERROR(G22/$G$6,0) -> 0
A23: =PG!A23 -> 0 | B23: =D23/$B$4 -> 0 | C23: Construction Administration | E23: 130 | G23: =+D23*E23 -> 0 | K23: =IFERROR(G23/$G$6,0) -> 0
A24: =PG!A24 -> 0 | B24: =D24/$B$4 -> 0 | C24: BIM Manager | E24: 150 | G24: =+D24*E24 -> 0 | K24: =IFERROR(G24/$G$6,0) -> 0
A25: =PG!A25 -> 0 | B25: =D25/$B$4 -> 0 | C25: Director of VDC | E25: 155 | G25: =+D25*E25 -> 0 | K25: =IFERROR(G25/$G$6,0) -> 0
A26: =PG!A27 -> 0 | B26: =D26/$B$4 -> 0.93333333 | C26: Administrative | D26: 8 | E26: 80 | G26: =E26*D26 -> 640 | K26: =IFERROR(G26/$G$6,0) -> 0.0091428571
G27: =SUM(G7:G26) -> 54620 | K27: =SUM(K7:K26) -> 0.78028571
C29: ='Budget Updated'!A23 -> Dept Name 2 | F29: =+G50/($G$27+$G$50+$G$73+$G$78+$G$85) -> 0 | G29: ='Budget Updated'!$H$16*F29 -> 0 | H29: =G29*(100%-'Budget Updated'!$B$8) -> 0
A30: =PG!A31 -> 0 | B30: =D30/$B$4 -> 0 | C30: Principal 1 | E30: 315 | G30: =E30*D30 -> 0 | K30: =IFERROR(G30/$G$29,0) -> 0
A31: =PG!A32 -> 0 | B31: =D31/$B$4 -> 0 | C31: Principal 2 | E31: 310 | G31: =E31*D31 -> 0 | K31: =IFERROR(G31/$G$29,0) -> 0
A32: =PG!A33 -> 0 | B32: =D32/$B$4 -> 0 | C32: Principal 3 | E32: 250 | G32: =E32*D32 -> 0 | K32: =IFERROR(G32/$G$29,0) -> 0
A33: =PG!A34 -> 0 | B33: =D33/$B$4 -> 0 | C33: Senior Project Manager | E33: 175 | G33: =E33*D33 -> 0 | K33: =IFERROR(G33/$G$29,0) -> 0
A34: =PG!A35 -> 0 | B34: =D34/$B$4 -> 0 | C34: Senior Architect | E34: 170 | G34: =E34*D34 -> 0 | K34: =IFERROR(G34/$G$29,0) -> 0
A35: =PG!A36 -> 0 | B35: =D35/$B$4 -> 0 | C35: Project Manager | E35: 150 | G35: =E35*D35 -> 0 | K35: =IFERROR(G35/$G$29,0) -> 0
A36: =PG!A37 -> 0 | B36: =D36/$B$4 -> 0 | C36: Architect | E36: 155 | G36: =E36*D36 -> 0 | K36: =IFERROR(G36/$G$29,0) -> 0
A37: =PG!A38 -> 0 | B37: =D37/$B$4 -> 0 | C37: Senior Design Professional (Architecture) | E37: 140 | G37: =E37*D37 -> 0 | K37: =IFERROR(G37/$G$29,0) -> 0
A38: =PG!A39 -> 0 | B38: =D38/$B$4 -> 0 | C38: Design Professional (Architecture) | E38: 115 | G38: =E38*D38 -> 0 | K38: =IFERROR(G38/$G$29,0) -> 0
A39: =PG!A40 -> 0 | B39: =D39/$B$4 -> 0 | C39: Design Intern (Architecture) | E39: 65 | G39: =E39*D39 -> 0 | K39: =IFERROR(G39/$G$29,0) -> 0
A40: =PG!A41 -> 0 | B40: =D40/$B$4 -> 0 | C40: Senior Interior Designer Project Manager | E40: 155 | G40: =E40*D40 -> 0 | K40: =IFERROR(G40/$G$29,0) -> 0
A41: =PG!A42 -> 0 | B41: =D41/$B$4 -> 0 | C41: Senior Interior Designer | E41: 145 | G41: =E41*D41 -> 0 | K41: =IFERROR(G41/$G$29,0) -> 0
... A48: =PG!A49 -> 0 | B48: =D48/$B$4 -> 0 | C48: Director of VDC | E48: 155 | G48: =E48*D48 -> 0 | K48: =IFERROR(G48/$G$29,0) -> 0
...

Sheet CA
A1: =+'Budget Updated'!A2 -> Oakhaven Public Safety Campus - GRC-26-0142
A3: =+'Budget Updated'!A17 -> Construction Administration
B4: =(+J5-I5)/7 -> 78.142857 | C4: Phase Duration in Weeks | F4: Department % | G4: PHASE FEE | H4: FEE LESS PROFIT | I4: START DATE | J4: COMPLETION DATE | K4: PERSONNEL % OF FEE PER DEPT
B5: hr/wk | I5: ='Budget Updated'!C17 -> 46585 | J5: ='Budget Updated'!D17 -> 47132
C6: ='Budget Updated'!A22 -> Architecture / Interiors | D6: Hours | E6: Cost | F6: =+G27/($G$27+$G$50+$G$73+$G$78+$G$85) -> 1 | G6: ='Budget Updated'!$H$17*F6 -> 280000 | H6: =G6*(100%-'Budget Updated'!$B$8) -> 224000
A7: =PG!A7 -> 0 | B7: =D7/$B$4 -> 0 | C7: Principal 1 | E7: 315 | G7: =E7*D7 -> 0 | K7: =IFERROR(G7/$G$6,0) -> 0
A8: =PG!A8 -> Marcus W. | B8: =D8/$B$4 -> 0.511883 | C8: Principal 2 | D8: 40 | E8: 310 | G8: =E8*D8 -> 12400 | K8: =IFERROR(G8/$G$6,0) -> 0.044285714
A9: =PG!A9 -> 0 | B9: =D9/$B$4 -> 0 | C9: Principal 3 | E9: 250 | G9: =E9*D9 -> 0 | K9: =IFERROR(G9/$G$6,0) -> 0
A10: =PG!A10 -> Dana R | B10: =D10/$B$4 -> 5.11883 | C10: Senior Project Manager | D10: 400 | E10: 175 | G10: =E10*D10 -> 70000 | K10: =IFERROR(G10/$G$6,0) -> 0.25
A11: =PG!A11 -> Roger S | B11: =D11/$B$4 -> 5.11883 | C11: Senior Architect | D11: 400 | E11: 170 | G11: =E11*D11 -> 68000 | K11: =IFERROR(G11/$G$6,0) -> 0.24285714
A12: =PG!A12 -> 0 | B12: =D12/$B$4 -> 0 | C12: Project Manager | E12: 150 | G12: =E12*D12 -> 0 | K12: =IFERROR(G12/$G$6,0) -> 0
A13: =PG!A13 -> Sebastian Z | B13: =D13/$B$4 -> 3.1992687 | C13: Architect | D13: 250 | E13: 155 | G13: =E13*D13 -> 38750 | K13: =IFERROR(G13/$G$6,0) -> 0.13839286
A14: =PG!A14 -> 0 | B14: =D14/$B$4 -> 0 | C14: Senior Design Professional (Architecture) | E14: 140 | G14: =E14*D14 -> 0 | K14: =IFERROR(G14/$G$6,0) -> 0
A15: =PG!A15 -> Amy T | B15: =D15/$B$4 -> 3.1992687 | C15: Design Professional (Architecture) | D15: 250 | E15: 115 | G15: =E15*D15 -> 28750 | K15: =IFERROR(G15/$G$6,0) -> 0.10267857
A16: =PG!A16 -> 0 | B16: =D16/$B$4 -> 0 | C16: Design Intern (Architecture) | E16: 65 | G16: =E16*D16 -> 0 | K16: =IFERROR(G16/$G$6,0) -> 0
A17: =PG!A17 -> 0 | B17: =D17/$B$4 -> 0 | C17: Senior Interior Designer Project Manager | E17: 155 | G17: =E17*D17 -> 0 | K17: =IFERROR(G17/$G$6,0) -> 0
A18: =PG!A18 -> Miranda G. | B18: =D18/$B$4 -> 2.559415 | C18: Senior Interior Designer | D18: 200 | E18: 145 | G18: =E18*D18 -> 29000 | K18: =IFERROR(G18/$G$6,0) -> 0.10357143
A19: =PG!A19 -> 0 | B19: =D19/$B$4 -> 0 | C19: Interior Project Manager | E19: 125 | G19: =E19*D19 -> 0 | K19: =IFERROR(G19/$G$6,0) -> 0
A20: =PG!A20 -> 0 | B20: =D20/$B$4 -> 0 | C20: Interior Designer | E20: 110 | G20: =E20*D20 -> 0 | K20: =IFERROR(G20/$G$6,0) -> 0
A21: =PG!A21 -> Grant H | B21: =D21/$B$4 -> 2.559415 | C21: Design Professional (Interiors) | D21: 200 | E21: 100 | G21: =+D21*E21 -> 20000 | K21: =IFERROR(G21/$G$6,0) -> 0.071428571
A22: =PG!A22 -> 0 | B22: =D22/$B$4 -> 0 | C22: Design Intern (Interiors) | E22: 50 | G22: =+D22*E22 -> 0 | K22: =IFERROR(G22/$G$6,0) -> 0
A23: =PG!A23 -> 0 | B23: =D23/$B$4 -> 0 | C23: Construction Administration | E23: 130 | G23: =+D23*E23 -> 0 | K23: =IFERROR(G23/$G$6,0) -> 0
A24: =PG!A24 -> 0 | B24: =D24/$B$4 -> 0 | C24: BIM Manager | E24: 150 | G24: =+D24*E24 -> 0 | K24: =IFERROR(G24/$G$6,0) -> 0
A25: =PG!A25 -> 0 | B25: =D25/$B$4 -> 0 | C25: Director of VDC | E25: 155 | G25: =+D25*E25 -> 0 | K25: =IFERROR(G25/$G$6,0) -> 0
A26: =PG!A27 -> 0 | B26: =D26/$B$4 -> 0.511883 | C26: Administrative | D26: 40 | E26: 80 | G26: =E26*D26 -> 3200 | K26: =IFERROR(G26/$G$6,0) -> 0.011428571
G27: =SUM(G7:G26) -> 270100 | K27: =SUM(K7:K26) -> 0.96464286
C29: ='Budget Updated'!A23 -> Dept Name 2 | F29: =+G50/($G$27+$G$50+$G$73+$G$78+$G$85) -> 0 | G29: ='Budget Updated'!$H$17*F29 -> 0 | H29: =G29*(100%-'Budget Updated'!$B$8) -> 0
A30: =PG!A31 -> 0 | B30: =D30/$B$4 -> 0 | C30: Principal 1 | E30: 315 | G30: =E30*D30 -> 0 | K30: =IFERROR(G30/$G$29,0) -> 0
A31: =PG!A32 -> 0 | B31: =D31/$B$4 -> 0 | C31: Principal 2 | E31: 310 | G31: =E31*D31 -> 0 | K31: =IFERROR(G31/$G$29,0) -> 0
A32: =PG!A33 -> 0 | B32: =D32/$B$4 -> 0 | C32: Principal 3 | E32: 250 | G32: =E32*D32 -> 0 | K32: =IFERROR(G32/$G$29,0) -> 0
A33: =PG!A34 -> 0 | B33: =D33/$B$4 -> 0 | C33: Senior Project Manager | E33: 175 | G33: =E33*D33 -> 0 | K33: =IFERROR(G33/$G$29,0) -> 0
A34: =PG!A35 -> 0 | B34: =D34/$B$4 -> 0 | C34: Senior Architect | E34: 170 | G34: =E34*D34 -> 0 | K34: =IFERROR(G34/$G$29,0) -> 0
A35: =PG!A36 -> 0 | B35: =D35/$B$4 -> 0 | C35: Project Manager | E35: 150 | G35: =E35*D35 -> 0 | K35: =IFERROR(G35/$G$29,0) -> 0
A36: =PG!A37 -> 0 | B36: =D36/$B$4 -> 0 | C36: Architect | E36: 155 | G36: =E36*D36 -> 0 | K36: =IFERROR(G36/$G$29,0) -> 0
A37: =PG!A38 -> 0 | B37: =D37/$B$4 -> 0 | C37: Senior Design Professional (Architecture) | E37: 140 | G37: =E37*D37 -> 0 | K37: =IFERROR(G37/$G$29,0) -> 0
A38: =PG!A39 -> 0 | B38: =D38/$B$4 -> 0 | C38: Design Professional (Architecture) | E38: 115 | G38: =E38*D38 -> 0 | K38: =IFERROR(G38/$G$29,0) -> 0
A39: =PG!A40 -> 0 | B39: =D39/$B$4 -> 0 | C39: Design Intern (Architecture) | E39: 65 | G39: =E39*D39 -> 0 | K39: =IFERROR(G39/$G$29,0) -> 0
A40: =PG!A41 -> 0 | B40: =D40/$B$4 -> 0 | C40: Senior Interior Designer Project Manager | E40: 155 | G40: =E40*D40 -> 0 | K40: =IFERROR(G40/$G$29,0) -> 0
A41: =PG!A42 -> 0 | B41: =D41/$B$4 -> 0 | C41: Senior Interior Designer | E41: 145 | G41: =E41*D41 -> 0 | K41: =IFERROR(G41/$G$29,0) -> 0
... A44: =PG!A45 -> 0 | B44: =D44/$B$4 -> 0 | C44: Design Professional (Interiors) | E44: 100 | G44: =E44*D44 -> 0 | K44: =IFERROR(G44/$G$29,0) -> 0
...

Sheet Warranty
A1: =+'Budget Updated'!A2 -> Oakhaven Public Safety Campus - GRC-26-0142
A3: =+'Budget Updated'!A18 -> Warranty
B4: =(+J5-I5)/7 -> 0 | C4: Phase Duration in Weeks | F4: Department % | G4: PHASE FEE | H4: FEE LESS PROFIT | I4: START DATE | J4: COMPLETION DATE | K4: PERSONNEL % OF FEE PER DEPT
B5: hr/wk | I5: ='Budget Updated'!C18 -> 0 | J5: ='Budget Updated'!D18 -> 0
C6: ='Budget Updated'!A22 -> Architecture / Interiors | D6: Hours | E6: Cost | F6: =IFERROR(+G27/($G$27+$G$50+$G$73+$G$78+$G$85),0) -> 0 | G6: =IFERROR('Budget Updated'!$H$18*F6,0) -> 0 | H6: =IFERROR(G6*(100%-'Budget Updated'!$B$8),0) -> 0
A7: =PG!A7 -> 0 | B7: =IFERROR(D7/$B$4,0) -> 0 | C7: Principal 1 | E7: 315 | G7: =E7*D7 -> 0 | K7: =IFERROR(G7/$G$6,0) -> 0
A8: =PG!A8 -> Marcus W. | B8: =IFERROR(D8/$B$4,0) -> 0 | C8: Principal 2 | E8: 310 | G8: =E8*D8 -> 0 | K8: =IFERROR(G8/$G$6,0) -> 0
A9: =PG!A9 -> 0 | B9: =IFERROR(D9/$B$4,0) -> 0 | C9: Principal 3 | E9: 250 | G9: =E9*D9 -> 0 | K9: =IFERROR(G9/$G$6,0) -> 0
A10: =PG!A10 -> Dana R | B10: =IFERROR(D10/$B$4,0) -> 0 | C10: Senior Project Manager | E10: 175 | G10: =E10*D10 -> 0 | K10: =IFERROR(G10/$G$6,0) -> 0
A11: =PG!A11 -> Roger S | B11: =IFERROR(D11/$B$4,0) -> 0 | C11: Senior Architect | E11: 170 | G11: =E11*D11 -> 0 | K11: =IFERROR(G11/$G$6,0) -> 0
A12: =PG!A12 -> 0 | B12: =IFERROR(D12/$B$4,0) -> 0 | C12: Project Manager | E12: 150 | G12: =E12*D12 -> 0 | K12: =IFERROR(G12/$G$6,0) -> 0
A13: =PG!A13 -> Sebastian Z | B13: =IFERROR(D13/$B$4,0) -> 0 | C13: Architect | E13: 155 | G13: =E13*D13 -> 0 | K13: =IFERROR(G13/$G$6,0) -> 0
A14: =PG!A14 -> 0 | B14: =IFERROR(D14/$B$4,0) -> 0 | C14: Senior Design Professional (Architecture) | E14: 140 | G14: =E14*D14 -> 0 | K14: =IFERROR(G14/$G$6,0) -> 0
A15: =PG!A15 -> Amy T | B15: =IFERROR(D15/$B$4,0) -> 0 | C15: Design Professional (Architecture) | E15: 115 | G15: =E15*D15 -> 0 | K15: =IFERROR(G15/$G$6,0) -> 0
A16: =PG!A16 -> 0 | B16: =IFERROR(D16/$B$4,0) -> 0 | C16: Design Intern (Architecture) | E16: 65 | G16: =E16*D16 -> 0 | K16: =IFERROR(G16/$G$6,0) -> 0
A17: =PG!A17 -> 0 | B17: =IFERROR(D17/$B$4,0) -> 0 | C17: Senior Interior Designer Project Manager | E17: 155 | G17: =E17*D17 -> 0 | K17: =IFERROR(G17/$G$6,0) -> 0
A18: =PG!A18 -> Miranda G. | B18: =IFERROR(D18/$B$4,0) -> 0 | C18: Senior Interior Designer | E18: 145 | G18: =E18*D18 -> 0 | K18: =IFERROR(G18/$G$6,0) -> 0
... A25: =PG!A25 -> 0 | B25: =IFERROR(D25/$B$4,0) -> 0 | C25: Director of VDC | E25: 155 | G25: =E25*D25 -> 0 | K25: =IFERROR(G25/$G$6,0) -> 0
A26: =PG!A27 -> 0 | B26: =IFERROR(D26/$B$4,0) -> 0 | C26: Administrative | E26: 80 | G26: =E26*D26 -> 0 | K26: =IFERROR(G26/$G$6,0) -> 0
G27: =SUM(G7:G26) -> 0 | K27: =SUM(K7:K26) -> 0
C29: ='Budget Updated'!A23 -> Dept Name 2 | F29: =IFERROR(+G50/($G$27+$G$50+$G$73+$G$78+$G$85),0) -> 0 | G29: =IFERROR('Budget Updated'!$H$18*F29,0) -> 0 | H29: =IFERROR(G29*(100%-'Budget Updated'!$B$8),0) -> 0
A30: =PG!A31 -> 0 | B30: =IFERROR(D30/$B$4,0) -> 0 | C30: Principal 1 | E30: 315 | G30: =E30*D30 -> 0 | K30: =IFERROR(G30/$G$29,0) -> 0
A31: =PG!A32 -> 0 | B31: =IFERROR(D31/$B$4,0) -> 0 | C31: Principal 2 | E31: 310 | G31: =E31*D31 -> 0 | K31: =IFERROR(G31/$G$29,0) -> 0
A32: =PG!A33 -> 0 | B32: =IFERROR(D32/$B$4,0) -> 0 | C32: Principal 3 | E32: 250 | G32: =E32*D32 -> 0 | K32: =IFERROR(G32/$G$29,0) -> 0
A33: =PG!A34 -> 0 | B33: =IFERROR(D33/$B$4,0) -> 0 | C33: Senior Project Manager | E33: 175 | G33: =E33*D33 -> 0 | K33: =IFERROR(G33/$G$29,0) -> 0
A34: =PG!A35 -> 0 | B34: =IFERROR(D34/$B$4,0) -> 0 | C34: Senior Architect | E34: 170 | G34: =E34*D34 -> 0 | K34: =IFERROR(G34/$G$29,0) -> 0
A35: =PG!A36 -> 0 | B35: =IFERROR(D35/$B$4,0) -> 0 | C35: Project Manager | E35: 150 | G35: =E35*D35 -> 0 | K35: =IFERROR(G35/$G$29,0) -> 0
A36: =PG!A37 -> 0 | B36: =IFERROR(D36/$B$4,0) -> 0 | C36: Architect | E36: 155 | G36: =E36*D36 -> 0 | K36: =IFERROR(G36/$G$29,0) -> 0
A37: =PG!A38 -> 0 | B37: =IFERROR(D37/$B$4,0) -> 0 | C37: Senior Design Professional (Architecture) | E37: 140 | G37: =E37*D37 -> 0 | K37: =IFERROR(G37/$G$29,0) -> 0
A38: =PG!A39 -> 0 | B38: =IFERROR(D38/$B$4,0) -> 0 | C38: Design Professional (Architecture) | E38: 115 | G38: =E38*D38 -> 0 | K38: =IFERROR(G38/$G$29,0) -> 0
A39: =PG!A40 -> 0 | B39: =IFERROR(D39/$B$4,0) -> 0 | C39: Design Intern (Architecture) | E39: 65 | G39: =E39*D39 -> 0 | K39: =IFERROR(G39/$G$29,0) -> 0
A40: =PG!A41 -> 0 | B40: =IFERROR(D40/$B$4,0) -> 0 | C40: Senior Interior Designer Project Manager | E40: 155 | G40: =E40*D40 -> 0 | K40: =IFERROR(G40/$G$29,0) -> 0
A41: =PG!A42 -> 0 | B41: =IFERROR(D41/$B$4,0) -> 0 | C41: Senior Interior Designer | E41: 145 | G41: =E41*D41 -> 0 | K41: =IFERROR(G41/$G$29,0) -> 0
... A48: =PG!A49 -> 0 | B48: =IFERROR(D48/$B$4,0) -> 0 | C48: Director of VDC | E48: 155 | G48: =E48*D48 -> 0 | K48: =IFERROR(G48/$G$29,0) -> 0
A49: =PG!A51 -> 0 | B49: =IFERROR(D49/$B$4,0) -> 0 | C49: Administrative | E49: 80 | G49: =E49*D49 -> 0 | K49: =IFERROR(G49/$G$29,0) -> 0
G50: =SUM(G30:G49) -> 0 | K50: =SUM(K30:K49) -> 0
C52: ='Budget Updated'!A24 -> Dept Name 3 | F52: =IFERROR(+G73/($G$27+$G$50+$G$73+$G$78+$G$85),0) -> 0 | G52: =IFERROR('Budget Updated'!$H$18*F52,0) -> 0 | H52: =IFERROR(G52*(100%-'Budget Updated'!$B$8),0) -> 0
A53: =PG!A55 -> 0 | B53: =IFERROR(D53/$B$4,0) -> 0 | C53: Principal 1 | E53: 315 | G53: =+D53*E53 -> 0 | K53: =IFERROR(G53/$G$52,0) -> 0
A54: =PG!A56 -> 0 | B54: =IFERROR(D54/$B$4,0) -> 0 | C54: Principal 2 | E54: 310 | G54: =+D54*E54 -> 0 | K54: =IFERROR(G54/$G$52,0) -> 0
A55: =PG!A57 -> 0 | B55: =IFERROR(D55/$B$4,0) -> 0 | C55: Principal 3 | E55: 250 | G55: =+D55*E55 -> 0 | K55: =IFERROR(G55/$G$52,0) -> 0
...
